BEGIN:VCALENDAR
VERSION:2.0
PRODID:-//U3A Nambucca Valley - ECPv5.4.0//NONSGML v1.0//EN
CALSCALE:GREGORIAN
METHOD:PUBLISH
X-WR-CALNAME:U3A Nambucca Valley
X-ORIGINAL-URL:https://www.u3a.com.au
X-WR-CALDESC:Events for U3A Nambucca Valley
BEGIN:VTIMEZONE
TZID:Australia/Sydney
BEGIN:STANDARD
TZOFFSETFROM:+1100
TZOFFSETTO:+1000
TZNAME:AEST
DTSTART:20210403T160000
END:STANDARD
BEGIN:DAYLIGHT
TZOFFSETFROM:+1000
TZOFFSETTO:+1100
TZNAME:AEDT
DTSTART:20211002T160000
END:DAYLIGHT
END:VTIMEZONE
BEGIN:VEVENT
DTSTART;TZID=Australia/Sydney:20210226T140000
DTEND;TZID=Australia/Sydney:20210226T160000
DTSTAMP:20210226T174924
CREATED:20201230T052303Z
LAST-MODIFIED:20210122T023745Z
UID:13123-1614348000-1614355200@www.u3a.com.au
SUMMARY:GOOD\,  BETTER\, BEST
DESCRIPTION:Course 1:     2:00 to 4:00 Fridays weekly 4 sessions from 5 February \nCourse 2:    2:00 to 4:00 Thursdays 4 sessions from 1 April \nNote: Course 1 is now full. \nFour week photography improvement course with local photographer & competition judge Janie News FIAP\, APSA\, FAPS. \nWhether you have a mobile phone or a Leica camera\, learn how to take great photographs more often.  Bring your favourite photos for assessment and be guided through the 5 Cs from concept to camera equipment\, composition\, colour and correction to achieve the best results possible. \nMin 4\, max 8.
URL:https://www.u3a.com.au/event/good-better-best/2021-02-26/
LOCATION:Private Home\, Australia
CATEGORIES:Music, Dance and the Arts
ORGANIZER;CN="U3A%20Nambucca%20Valley":MAILTO:contact@u3a.com.au
GEO:-25.274398;133.775136
END:VEVENT
END:VCALENDAR